BEGIN:VCALENDAR
VERSION:2.0
PRODID:-//eventon.com NONSGML v1.0//EN
CALSCALE:GREGORIAN
METHOD:PUBLISH
BEGIN:VEVENT
UID:69e84d5f4b114
DTSTAMP:20260421T212359
DTSTART:20230520T160000Z
DTEND:20230525T000000Z
TZID:America/Los_Angeles
LOCATION:Moscone Center 747 Howard St
SUMMARY:2023 Annual APA Meeting
DESCRIPTION: We look forward to seeing you for the 2023 Annual Meeting\,  May 20-24 in San Francisco\,  California! Join us to hear from experts on emerging trends and research\,  connect with old and new colleagues from around the world\,  and earn CME and MOC credits for your continuing practice. The APA&#8217;s[..]\nhttps://www.calpsychiatrists.org/events/2023-annual-apa-meeting/
URL:https://www.calpsychiatrists.org/events/2023-annual-apa-meeting/
END:VEVENT
END:VCALENDAR